BEGIN:VCALENDAR
VERSION:2.0
PRODID:-//Intand Corporation//Tandem//EN
METHOD:PUBLISH
BEGIN:VEVENT
DTSTAMP:20260422T071437Z
DTSTART:20260415T220000Z
DTEND:20260415T230000Z
TRANSP:TRANSPARENT
PRIORITY:0
SUMMARY:Wedding
LOCATION:St. Ann Catholic Church  > Chapel
DESCRIPTION:Location:\nSt. Ann Catholic Church  > Chapel\n\n
URL;VALUE=URI:http://stanncatholicchurch.tandem.co/index.php?type=view&act
 ion=event&id=19619
CREATED:20260413T185806Z
LAST-MODIFIED:20260413T185806Z
UID:event-19619-stanncatholicchurch@intand.com
END:VEVENT
END:VCALENDAR
