BEGIN:VCALENDAR
VERSION:2.0
PRODID:-//Intand Corporation//Tandem//EN
METHOD:PUBLISH
BEGIN:VEVENT
DTSTAMP:20260422T072848Z
DTSTART:20260401T183000Z
DTEND:20260401T200000Z
TRANSP:TRANSPARENT
PRIORITY:0
SUMMARY:Living Stations of the Cross - All School
LOCATION:St. Ann Catholic Church 
DESCRIPTION:Location:\nSt. Ann Catholic Church \n\n
URL;VALUE=URI:http://stanncatholicchurch.tandem.co/index.php?type=view&act
 ion=event&id=19468
CREATED:20260227T164856Z
LAST-MODIFIED:20260302T161755Z
UID:event_request-19468-stanncatholicchurch@intand.com
END:VEVENT
END:VCALENDAR
